BEGIN:VCALENDAR
VERSION:2.0
PRODID:-//ProHealth West Wood Health &amp; Fitness Center - ECPv6.15.20//NONSGML v1.0//EN
CALSCALE:GREGORIAN
METHOD:PUBLISH
X-WR-CALNAME:ProHealth West Wood Health &amp; Fitness Center
X-ORIGINAL-URL:https://www.westwoodfitness.org
X-WR-CALDESC:Events for ProHealth West Wood Health &amp; Fitness Center
REFRESH-INTERVAL;VALUE=DURATION:PT1H
X-Robots-Tag:noindex
X-PUBLISHED-TTL:PT1H
BEGIN:VTIMEZONE
TZID:America/Chicago
BEGIN:DAYLIGHT
TZOFFSETFROM:-0600
TZOFFSETTO:-0500
TZNAME:CDT
DTSTART:20250309T080000
END:DAYLIGHT
BEGIN:STANDARD
TZOFFSETFROM:-0500
TZOFFSETTO:-0600
TZNAME:CST
DTSTART:20251102T070000
END:STANDARD
BEGIN:DAYLIGHT
TZOFFSETFROM:-0600
TZOFFSETTO:-0500
TZNAME:CDT
DTSTART:20260308T080000
END:DAYLIGHT
BEGIN:STANDARD
TZOFFSETFROM:-0500
TZOFFSETTO:-0600
TZNAME:CST
DTSTART:20261101T070000
END:STANDARD
BEGIN:DAYLIGHT
TZOFFSETFROM:-0600
TZOFFSETTO:-0500
TZNAME:CDT
DTSTART:20270314T080000
END:DAYLIGHT
BEGIN:STANDARD
TZOFFSETFROM:-0500
TZOFFSETTO:-0600
TZNAME:CST
DTSTART:20271107T070000
END:STANDARD
END:VTIMEZONE
BEGIN:VEVENT
DTSTART;TZID=America/Chicago:20260515T090000
DTEND;TZID=America/Chicago:20260515T100000
DTSTAMP:20260420T065724
CREATED:20240423T182952Z
LAST-MODIFIED:20240423T182952Z
UID:90556-1778835600-1778839200@www.westwoodfitness.org
SUMMARY:Yin Yoga
DESCRIPTION:Can’t touch your toes? Is your low back chronically tight? Do your shoulders and upper back feel like they will never release?\nThis unique class is specifically designed to safely increase flexibility\, and no previous yoga experience is needed.
URL:https://www.westwoodfitness.org/event/yin-yoga/2026-05-15/
LOCATION:Yoga Studio
CATEGORIES:Yoga / Pilates / Barre
END:VEVENT
BEGIN:VEVENT
DTSTART;TZID=America/Chicago:20260517T091500
DTEND;TZID=America/Chicago:20260517T101500
DTSTAMP:20260420T065724
CREATED:20240923T190043Z
LAST-MODIFIED:20240923T190043Z
UID:90575-1779009300-1779012900@www.westwoodfitness.org
SUMMARY:Hatha Yoga
DESCRIPTION:Hatha yoga places a special emphasis\non controlled breathing and posture.\nBuilding core strength is key to good\nposture. Hatha yoga is a slower pace\npractice\, and you’ll hold poses for\nlonger than you would in a flow-style\nyoga class. This is great practice for\nbeginners and for people who want a\nmore gentle activity that can help\nreduce stress and create mind-body\nawareness.
URL:https://www.westwoodfitness.org/event/hatha-yoga-2/2026-05-17/
LOCATION:Yoga Studio
CATEGORIES:Yoga / Pilates / Barre
END:VEVENT
BEGIN:VEVENT
DTSTART;TZID=America/Chicago:20260520T183000
DTEND;TZID=America/Chicago:20260520T193000
DTSTAMP:20260420T065724
CREATED:20240403T202252Z
LAST-MODIFIED:20240403T202252Z
UID:90639-1779301800-1779305400@www.westwoodfitness.org
SUMMARY:Hatha Yoga
DESCRIPTION:Hatha yoga places a special emphasis on controlled breathing and posture. Building core strength is key to good posture. Hatha yoga is a slower pace practice\, and you’ll hold poses for longer than you would in a flow-style yoga class. This is great practice for beginners and for people who want a more gentle activity that can help reduce stress and create mind-body awareness.
URL:https://www.westwoodfitness.org/event/hatha-yoga/2026-05-20/
LOCATION:Yoga Studio
CATEGORIES:Yoga / Pilates / Barre
END:VEVENT
BEGIN:VEVENT
DTSTART;TZID=America/Chicago:20260522T090000
DTEND;TZID=America/Chicago:20260522T100000
DTSTAMP:20260420T065724
CREATED:20240423T182952Z
LAST-MODIFIED:20240423T182952Z
UID:90680-1779440400-1779444000@www.westwoodfitness.org
SUMMARY:Yin Yoga
DESCRIPTION:Can’t touch your toes? Is your low back chronically tight? Do your shoulders and upper back feel like they will never release?\nThis unique class is specifically designed to safely increase flexibility\, and no previous yoga experience is needed.
URL:https://www.westwoodfitness.org/event/yin-yoga/2026-05-22/
LOCATION:Yoga Studio
CATEGORIES:Yoga / Pilates / Barre
END:VEVENT
BEGIN:VEVENT
DTSTART;TZID=America/Chicago:20260524T091500
DTEND;TZID=America/Chicago:20260524T101500
DTSTAMP:20260420T065724
CREATED:20240923T190043Z
LAST-MODIFIED:20240923T190043Z
UID:90696-1779614100-1779617700@www.westwoodfitness.org
SUMMARY:Hatha Yoga
DESCRIPTION:Hatha yoga places a special emphasis\non controlled breathing and posture.\nBuilding core strength is key to good\nposture. Hatha yoga is a slower pace\npractice\, and you’ll hold poses for\nlonger than you would in a flow-style\nyoga class. This is great practice for\nbeginners and for people who want a\nmore gentle activity that can help\nreduce stress and create mind-body\nawareness.
URL:https://www.westwoodfitness.org/event/hatha-yoga-2/2026-05-24/
LOCATION:Yoga Studio
CATEGORIES:Yoga / Pilates / Barre
END:VEVENT
BEGIN:VEVENT
DTSTART;TZID=America/Chicago:20260527T183000
DTEND;TZID=America/Chicago:20260527T193000
DTSTAMP:20260420T065724
CREATED:20240403T202252Z
LAST-MODIFIED:20240403T202252Z
UID:90761-1779906600-1779910200@www.westwoodfitness.org
SUMMARY:Hatha Yoga
DESCRIPTION:Hatha yoga places a special emphasis on controlled breathing and posture. Building core strength is key to good posture. Hatha yoga is a slower pace practice\, and you’ll hold poses for longer than you would in a flow-style yoga class. This is great practice for beginners and for people who want a more gentle activity that can help reduce stress and create mind-body awareness.
URL:https://www.westwoodfitness.org/event/hatha-yoga/2026-05-27/
LOCATION:Yoga Studio
CATEGORIES:Yoga / Pilates / Barre
END:VEVENT
BEGIN:VEVENT
DTSTART;TZID=America/Chicago:20260529T090000
DTEND;TZID=America/Chicago:20260529T100000
DTSTAMP:20260420T065724
CREATED:20240423T182952Z
LAST-MODIFIED:20240423T182952Z
UID:90797-1780045200-1780048800@www.westwoodfitness.org
SUMMARY:Yin Yoga
DESCRIPTION:Can’t touch your toes? Is your low back chronically tight? Do your shoulders and upper back feel like they will never release?\nThis unique class is specifically designed to safely increase flexibility\, and no previous yoga experience is needed.
URL:https://www.westwoodfitness.org/event/yin-yoga/2026-05-29/
LOCATION:Yoga Studio
CATEGORIES:Yoga / Pilates / Barre
END:VEVENT
BEGIN:VEVENT
DTSTART;TZID=America/Chicago:20260531T091500
DTEND;TZID=America/Chicago:20260531T101500
DTSTAMP:20260420T065724
CREATED:20240923T190043Z
LAST-MODIFIED:20240923T190043Z
UID:90810-1780218900-1780222500@www.westwoodfitness.org
SUMMARY:Hatha Yoga
DESCRIPTION:Hatha yoga places a special emphasis\non controlled breathing and posture.\nBuilding core strength is key to good\nposture. Hatha yoga is a slower pace\npractice\, and you’ll hold poses for\nlonger than you would in a flow-style\nyoga class. This is great practice for\nbeginners and for people who want a\nmore gentle activity that can help\nreduce stress and create mind-body\nawareness.
URL:https://www.westwoodfitness.org/event/hatha-yoga-2/2026-05-31/
LOCATION:Yoga Studio
CATEGORIES:Yoga / Pilates / Barre
END:VEVENT
BEGIN:VEVENT
DTSTART;TZID=America/Chicago:20260603T183000
DTEND;TZID=America/Chicago:20260603T193000
DTSTAMP:20260420T065724
CREATED:20240403T202252Z
LAST-MODIFIED:20240403T202252Z
UID:90880-1780511400-1780515000@www.westwoodfitness.org
SUMMARY:Hatha Yoga
DESCRIPTION:Hatha yoga places a special emphasis on controlled breathing and posture. Building core strength is key to good posture. Hatha yoga is a slower pace practice\, and you’ll hold poses for longer than you would in a flow-style yoga class. This is great practice for beginners and for people who want a more gentle activity that can help reduce stress and create mind-body awareness.
URL:https://www.westwoodfitness.org/event/hatha-yoga/2026-06-03/
LOCATION:Yoga Studio
CATEGORIES:Yoga / Pilates / Barre
END:VEVENT
BEGIN:VEVENT
DTSTART;TZID=America/Chicago:20260605T090000
DTEND;TZID=America/Chicago:20260605T100000
DTSTAMP:20260420T065724
CREATED:20240423T182952Z
LAST-MODIFIED:20240423T182952Z
UID:90929-1780650000-1780653600@www.westwoodfitness.org
SUMMARY:Yin Yoga
DESCRIPTION:Can’t touch your toes? Is your low back chronically tight? Do your shoulders and upper back feel like they will never release?\nThis unique class is specifically designed to safely increase flexibility\, and no previous yoga experience is needed.
URL:https://www.westwoodfitness.org/event/yin-yoga/2026-06-05/
LOCATION:Yoga Studio
CATEGORIES:Yoga / Pilates / Barre
END:VEVENT
BEGIN:VEVENT
DTSTART;TZID=America/Chicago:20260607T091500
DTEND;TZID=America/Chicago:20260607T101500
DTSTAMP:20260420T065724
CREATED:20240923T190043Z
LAST-MODIFIED:20240923T190043Z
UID:90945-1780823700-1780827300@www.westwoodfitness.org
SUMMARY:Hatha Yoga
DESCRIPTION:Hatha yoga places a special emphasis\non controlled breathing and posture.\nBuilding core strength is key to good\nposture. Hatha yoga is a slower pace\npractice\, and you’ll hold poses for\nlonger than you would in a flow-style\nyoga class. This is great practice for\nbeginners and for people who want a\nmore gentle activity that can help\nreduce stress and create mind-body\nawareness.
URL:https://www.westwoodfitness.org/event/hatha-yoga-2/2026-06-07/
LOCATION:Yoga Studio
CATEGORIES:Yoga / Pilates / Barre
END:VEVENT
BEGIN:VEVENT
DTSTART;TZID=America/Chicago:20260610T183000
DTEND;TZID=America/Chicago:20260610T193000
DTSTAMP:20260420T065724
CREATED:20240403T202252Z
LAST-MODIFIED:20240403T202252Z
UID:91002-1781116200-1781119800@www.westwoodfitness.org
SUMMARY:Hatha Yoga
DESCRIPTION:Hatha yoga places a special emphasis on controlled breathing and posture. Building core strength is key to good posture. Hatha yoga is a slower pace practice\, and you’ll hold poses for longer than you would in a flow-style yoga class. This is great practice for beginners and for people who want a more gentle activity that can help reduce stress and create mind-body awareness.
URL:https://www.westwoodfitness.org/event/hatha-yoga/2026-06-10/
LOCATION:Yoga Studio
CATEGORIES:Yoga / Pilates / Barre
END:VEVENT
BEGIN:VEVENT
DTSTART;TZID=America/Chicago:20260612T090000
DTEND;TZID=America/Chicago:20260612T100000
DTSTAMP:20260420T065724
CREATED:20240423T182952Z
LAST-MODIFIED:20240423T182952Z
UID:91049-1781254800-1781258400@www.westwoodfitness.org
SUMMARY:Yin Yoga
DESCRIPTION:Can’t touch your toes? Is your low back chronically tight? Do your shoulders and upper back feel like they will never release?\nThis unique class is specifically designed to safely increase flexibility\, and no previous yoga experience is needed.
URL:https://www.westwoodfitness.org/event/yin-yoga/2026-06-12/
LOCATION:Yoga Studio
CATEGORIES:Yoga / Pilates / Barre
END:VEVENT
BEGIN:VEVENT
DTSTART;TZID=America/Chicago:20260614T091500
DTEND;TZID=America/Chicago:20260614T101500
DTSTAMP:20260420T065724
CREATED:20240923T190043Z
LAST-MODIFIED:20240923T190043Z
UID:91065-1781428500-1781432100@www.westwoodfitness.org
SUMMARY:Hatha Yoga
DESCRIPTION:Hatha yoga places a special emphasis\non controlled breathing and posture.\nBuilding core strength is key to good\nposture. Hatha yoga is a slower pace\npractice\, and you’ll hold poses for\nlonger than you would in a flow-style\nyoga class. This is great practice for\nbeginners and for people who want a\nmore gentle activity that can help\nreduce stress and create mind-body\nawareness.
URL:https://www.westwoodfitness.org/event/hatha-yoga-2/2026-06-14/
LOCATION:Yoga Studio
CATEGORIES:Yoga / Pilates / Barre
END:VEVENT
BEGIN:VEVENT
DTSTART;TZID=America/Chicago:20260617T183000
DTEND;TZID=America/Chicago:20260617T193000
DTSTAMP:20260420T065724
CREATED:20240403T202252Z
LAST-MODIFIED:20240403T202252Z
UID:91137-1781721000-1781724600@www.westwoodfitness.org
SUMMARY:Hatha Yoga
DESCRIPTION:Hatha yoga places a special emphasis on controlled breathing and posture. Building core strength is key to good posture. Hatha yoga is a slower pace practice\, and you’ll hold poses for longer than you would in a flow-style yoga class. This is great practice for beginners and for people who want a more gentle activity that can help reduce stress and create mind-body awareness.
URL:https://www.westwoodfitness.org/event/hatha-yoga/2026-06-17/
LOCATION:Yoga Studio
CATEGORIES:Yoga / Pilates / Barre
END:VEVENT
BEGIN:VEVENT
DTSTART;TZID=America/Chicago:20260619T090000
DTEND;TZID=America/Chicago:20260619T100000
DTSTAMP:20260420T065724
CREATED:20240423T182952Z
LAST-MODIFIED:20240423T182952Z
UID:91181-1781859600-1781863200@www.westwoodfitness.org
SUMMARY:Yin Yoga
DESCRIPTION:Can’t touch your toes? Is your low back chronically tight? Do your shoulders and upper back feel like they will never release?\nThis unique class is specifically designed to safely increase flexibility\, and no previous yoga experience is needed.
URL:https://www.westwoodfitness.org/event/yin-yoga/2026-06-19/
LOCATION:Yoga Studio
CATEGORIES:Yoga / Pilates / Barre
END:VEVENT
BEGIN:VEVENT
DTSTART;TZID=America/Chicago:20260621T091500
DTEND;TZID=America/Chicago:20260621T101500
DTSTAMP:20260420T065724
CREATED:20240923T190043Z
LAST-MODIFIED:20240923T190043Z
UID:91197-1782033300-1782036900@www.westwoodfitness.org
SUMMARY:Hatha Yoga
DESCRIPTION:Hatha yoga places a special emphasis\non controlled breathing and posture.\nBuilding core strength is key to good\nposture. Hatha yoga is a slower pace\npractice\, and you’ll hold poses for\nlonger than you would in a flow-style\nyoga class. This is great practice for\nbeginners and for people who want a\nmore gentle activity that can help\nreduce stress and create mind-body\nawareness.
URL:https://www.westwoodfitness.org/event/hatha-yoga-2/2026-06-21/
LOCATION:Yoga Studio
CATEGORIES:Yoga / Pilates / Barre
END:VEVENT
BEGIN:VEVENT
DTSTART;TZID=America/Chicago:20260624T183000
DTEND;TZID=America/Chicago:20260624T193000
DTSTAMP:20260420T065724
CREATED:20240403T202252Z
LAST-MODIFIED:20240403T202252Z
UID:91266-1782325800-1782329400@www.westwoodfitness.org
SUMMARY:Hatha Yoga
DESCRIPTION:Hatha yoga places a special emphasis on controlled breathing and posture. Building core strength is key to good posture. Hatha yoga is a slower pace practice\, and you’ll hold poses for longer than you would in a flow-style yoga class. This is great practice for beginners and for people who want a more gentle activity that can help reduce stress and create mind-body awareness.
URL:https://www.westwoodfitness.org/event/hatha-yoga/2026-06-24/
LOCATION:Yoga Studio
CATEGORIES:Yoga / Pilates / Barre
END:VEVENT
BEGIN:VEVENT
DTSTART;TZID=America/Chicago:20260626T090000
DTEND;TZID=America/Chicago:20260626T100000
DTSTAMP:20260420T065724
CREATED:20240423T182952Z
LAST-MODIFIED:20240423T182952Z
UID:91307-1782464400-1782468000@www.westwoodfitness.org
SUMMARY:Yin Yoga
DESCRIPTION:Can’t touch your toes? Is your low back chronically tight? Do your shoulders and upper back feel like they will never release?\nThis unique class is specifically designed to safely increase flexibility\, and no previous yoga experience is needed.
URL:https://www.westwoodfitness.org/event/yin-yoga/2026-06-26/
LOCATION:Yoga Studio
CATEGORIES:Yoga / Pilates / Barre
END:VEVENT
BEGIN:VEVENT
DTSTART;TZID=America/Chicago:20260628T091500
DTEND;TZID=America/Chicago:20260628T101500
DTSTAMP:20260420T065724
CREATED:20240923T190043Z
LAST-MODIFIED:20240923T190043Z
UID:91323-1782638100-1782641700@www.westwoodfitness.org
SUMMARY:Hatha Yoga
DESCRIPTION:Hatha yoga places a special emphasis\non controlled breathing and posture.\nBuilding core strength is key to good\nposture. Hatha yoga is a slower pace\npractice\, and you’ll hold poses for\nlonger than you would in a flow-style\nyoga class. This is great practice for\nbeginners and for people who want a\nmore gentle activity that can help\nreduce stress and create mind-body\nawareness.
URL:https://www.westwoodfitness.org/event/hatha-yoga-2/2026-06-28/
LOCATION:Yoga Studio
CATEGORIES:Yoga / Pilates / Barre
END:VEVENT
BEGIN:VEVENT
DTSTART;TZID=America/Chicago:20260701T183000
DTEND;TZID=America/Chicago:20260701T193000
DTSTAMP:20260420T065724
CREATED:20240403T202252Z
LAST-MODIFIED:20240403T202252Z
UID:91390-1782930600-1782934200@www.westwoodfitness.org
SUMMARY:Hatha Yoga
DESCRIPTION:Hatha yoga places a special emphasis on controlled breathing and posture. Building core strength is key to good posture. Hatha yoga is a slower pace practice\, and you’ll hold poses for longer than you would in a flow-style yoga class. This is great practice for beginners and for people who want a more gentle activity that can help reduce stress and create mind-body awareness.
URL:https://www.westwoodfitness.org/event/hatha-yoga/2026-07-01/
LOCATION:Yoga Studio
CATEGORIES:Yoga / Pilates / Barre
END:VEVENT
BEGIN:VEVENT
DTSTART;TZID=America/Chicago:20260703T090000
DTEND;TZID=America/Chicago:20260703T100000
DTSTAMP:20260420T065724
CREATED:20240423T182952Z
LAST-MODIFIED:20240423T182952Z
UID:91431-1783069200-1783072800@www.westwoodfitness.org
SUMMARY:Yin Yoga
DESCRIPTION:Can’t touch your toes? Is your low back chronically tight? Do your shoulders and upper back feel like they will never release?\nThis unique class is specifically designed to safely increase flexibility\, and no previous yoga experience is needed.
URL:https://www.westwoodfitness.org/event/yin-yoga/2026-07-03/
LOCATION:Yoga Studio
CATEGORIES:Yoga / Pilates / Barre
END:VEVENT
BEGIN:VEVENT
DTSTART;TZID=America/Chicago:20260705T091500
DTEND;TZID=America/Chicago:20260705T101500
DTSTAMP:20260420T065724
CREATED:20240923T190043Z
LAST-MODIFIED:20240923T190043Z
UID:91447-1783242900-1783246500@www.westwoodfitness.org
SUMMARY:Hatha Yoga
DESCRIPTION:Hatha yoga places a special emphasis\non controlled breathing and posture.\nBuilding core strength is key to good\nposture. Hatha yoga is a slower pace\npractice\, and you’ll hold poses for\nlonger than you would in a flow-style\nyoga class. This is great practice for\nbeginners and for people who want a\nmore gentle activity that can help\nreduce stress and create mind-body\nawareness.
URL:https://www.westwoodfitness.org/event/hatha-yoga-2/2026-07-05/
LOCATION:Yoga Studio
CATEGORIES:Yoga / Pilates / Barre
END:VEVENT
BEGIN:VEVENT
DTSTART;TZID=America/Chicago:20260708T183000
DTEND;TZID=America/Chicago:20260708T193000
DTSTAMP:20260420T065724
CREATED:20240403T202252Z
LAST-MODIFIED:20240403T202252Z
UID:91504-1783535400-1783539000@www.westwoodfitness.org
SUMMARY:Hatha Yoga
DESCRIPTION:Hatha yoga places a special emphasis on controlled breathing and posture. Building core strength is key to good posture. Hatha yoga is a slower pace practice\, and you’ll hold poses for longer than you would in a flow-style yoga class. This is great practice for beginners and for people who want a more gentle activity that can help reduce stress and create mind-body awareness.
URL:https://www.westwoodfitness.org/event/hatha-yoga/2026-07-08/
LOCATION:Yoga Studio
CATEGORIES:Yoga / Pilates / Barre
END:VEVENT
BEGIN:VEVENT
DTSTART;TZID=America/Chicago:20260710T090000
DTEND;TZID=America/Chicago:20260710T100000
DTSTAMP:20260420T065724
CREATED:20240423T182952Z
LAST-MODIFIED:20240423T182952Z
UID:91545-1783674000-1783677600@www.westwoodfitness.org
SUMMARY:Yin Yoga
DESCRIPTION:Can’t touch your toes? Is your low back chronically tight? Do your shoulders and upper back feel like they will never release?\nThis unique class is specifically designed to safely increase flexibility\, and no previous yoga experience is needed.
URL:https://www.westwoodfitness.org/event/yin-yoga/2026-07-10/
LOCATION:Yoga Studio
CATEGORIES:Yoga / Pilates / Barre
END:VEVENT
BEGIN:VEVENT
DTSTART;TZID=America/Chicago:20260712T091500
DTEND;TZID=America/Chicago:20260712T101500
DTSTAMP:20260420T065724
CREATED:20240923T190043Z
LAST-MODIFIED:20240923T190043Z
UID:91561-1783847700-1783851300@www.westwoodfitness.org
SUMMARY:Hatha Yoga
DESCRIPTION:Hatha yoga places a special emphasis\non controlled breathing and posture.\nBuilding core strength is key to good\nposture. Hatha yoga is a slower pace\npractice\, and you’ll hold poses for\nlonger than you would in a flow-style\nyoga class. This is great practice for\nbeginners and for people who want a\nmore gentle activity that can help\nreduce stress and create mind-body\nawareness.
URL:https://www.westwoodfitness.org/event/hatha-yoga-2/2026-07-12/
LOCATION:Yoga Studio
CATEGORIES:Yoga / Pilates / Barre
END:VEVENT
BEGIN:VEVENT
DTSTART;TZID=America/Chicago:20260715T183000
DTEND;TZID=America/Chicago:20260715T193000
DTSTAMP:20260420T065724
CREATED:20240403T202252Z
LAST-MODIFIED:20240403T202252Z
UID:91615-1784140200-1784143800@www.westwoodfitness.org
SUMMARY:Hatha Yoga
DESCRIPTION:Hatha yoga places a special emphasis on controlled breathing and posture. Building core strength is key to good posture. Hatha yoga is a slower pace practice\, and you’ll hold poses for longer than you would in a flow-style yoga class. This is great practice for beginners and for people who want a more gentle activity that can help reduce stress and create mind-body awareness.
URL:https://www.westwoodfitness.org/event/hatha-yoga/2026-07-15/
LOCATION:Yoga Studio
CATEGORIES:Yoga / Pilates / Barre
END:VEVENT
BEGIN:VEVENT
DTSTART;TZID=America/Chicago:20260717T090000
DTEND;TZID=America/Chicago:20260717T100000
DTSTAMP:20260420T065724
CREATED:20240423T182952Z
LAST-MODIFIED:20240423T182952Z
UID:91656-1784278800-1784282400@www.westwoodfitness.org
SUMMARY:Yin Yoga
DESCRIPTION:Can’t touch your toes? Is your low back chronically tight? Do your shoulders and upper back feel like they will never release?\nThis unique class is specifically designed to safely increase flexibility\, and no previous yoga experience is needed.
URL:https://www.westwoodfitness.org/event/yin-yoga/2026-07-17/
LOCATION:Yoga Studio
CATEGORIES:Yoga / Pilates / Barre
END:VEVENT
END:VCALENDAR