BEGIN:VCALENDAR
VERSION:2.0
PRODID:-//ProHealth West Wood Health &amp; Fitness Center - ECPv6.15.20//NONSGML v1.0//EN
CALSCALE:GREGORIAN
METHOD:PUBLISH
X-ORIGINAL-URL:https://www.westwoodfitness.org
X-WR-CALDESC:Events for ProHealth West Wood Health &amp; Fitness Center
REFRESH-INTERVAL;VALUE=DURATION:PT1H
X-Robots-Tag:noindex
X-PUBLISHED-TTL:PT1H
BEGIN:VTIMEZONE
TZID:America/Chicago
BEGIN:DAYLIGHT
TZOFFSETFROM:-0600
TZOFFSETTO:-0500
TZNAME:CDT
DTSTART:20200308T080000
END:DAYLIGHT
BEGIN:STANDARD
TZOFFSETFROM:-0500
TZOFFSETTO:-0600
TZNAME:CST
DTSTART:20201101T070000
END:STANDARD
BEGIN:DAYLIGHT
TZOFFSETFROM:-0600
TZOFFSETTO:-0500
TZNAME:CDT
DTSTART:20210314T080000
END:DAYLIGHT
BEGIN:STANDARD
TZOFFSETFROM:-0500
TZOFFSETTO:-0600
TZNAME:CST
DTSTART:20211107T070000
END:STANDARD
BEGIN:DAYLIGHT
TZOFFSETFROM:-0600
TZOFFSETTO:-0500
TZNAME:CDT
DTSTART:20220313T080000
END:DAYLIGHT
BEGIN:STANDARD
TZOFFSETFROM:-0500
TZOFFSETTO:-0600
TZNAME:CST
DTSTART:20221106T070000
END:STANDARD
END:VTIMEZONE
BEGIN:VEVENT
DTSTART;TZID=America/Chicago:20210305T051500
DTEND;TZID=America/Chicago:20210305T061500
DTSTAMP:20260420T115103
CREATED:20210318T201215Z
LAST-MODIFIED:20220712T150539Z
UID:58732-1614921300-1614924900@www.westwoodfitness.org
SUMMARY:BodyPump - Les Mills
DESCRIPTION:The original barbell class that strengthens your entire body. This 60- minute workout challenges all your major muscle groups. Great music\, awesome instructors and your choice of weight inspire you to get the results you came for – and fast!
URL:https://www.westwoodfitness.org/event/bodypump-les-mills-6/
LOCATION:Studio 1
CATEGORIES:Cardio / Strength,Les Mills
END:VEVENT
END:VCALENDAR