BEGIN:VCALENDAR
VERSION:2.0
PRODID:-//ProHealth West Wood Health &amp; Fitness Center - ECPv6.15.20//NONSGML v1.0//EN
CALSCALE:GREGORIAN
METHOD:PUBLISH
X-WR-CALNAME:ProHealth West Wood Health &amp; Fitness Center
X-ORIGINAL-URL:https://www.westwoodfitness.org
X-WR-CALDESC:Events for ProHealth West Wood Health &amp; Fitness Center
REFRESH-INTERVAL;VALUE=DURATION:PT1H
X-Robots-Tag:noindex
X-PUBLISHED-TTL:PT1H
BEGIN:VTIMEZONE
TZID:America/Chicago
BEGIN:DAYLIGHT
TZOFFSETFROM:-0600
TZOFFSETTO:-0500
TZNAME:CDT
DTSTART:20250309T080000
END:DAYLIGHT
BEGIN:STANDARD
TZOFFSETFROM:-0500
TZOFFSETTO:-0600
TZNAME:CST
DTSTART:20251102T070000
END:STANDARD
BEGIN:DAYLIGHT
TZOFFSETFROM:-0600
TZOFFSETTO:-0500
TZNAME:CDT
DTSTART:20260308T080000
END:DAYLIGHT
BEGIN:STANDARD
TZOFFSETFROM:-0500
TZOFFSETTO:-0600
TZNAME:CST
DTSTART:20261101T070000
END:STANDARD
BEGIN:DAYLIGHT
TZOFFSETFROM:-0600
TZOFFSETTO:-0500
TZNAME:CDT
DTSTART:20270314T080000
END:DAYLIGHT
BEGIN:STANDARD
TZOFFSETFROM:-0500
TZOFFSETTO:-0600
TZNAME:CST
DTSTART:20271107T070000
END:STANDARD
END:VTIMEZONE
BEGIN:VEVENT
DTSTART;TZID=America/Chicago:20260423T090000
DTEND;TZID=America/Chicago:20260423T094500
DTSTAMP:20260421T064259
CREATED:20210318T200029Z
LAST-MODIFIED:20210318T200029Z
UID:90189-1776934800-1776937500@www.westwoodfitness.org
SUMMARY:Total Barre
DESCRIPTION:Never dread a workout again! Total Barre’s lively and vigorous workout will have you looking forward to your next class. This workout flows through high-powered sequences that specifically target the arms\, legs\, and core resulting in a long and lean physique.(Please wear sticky socks or bare feet)
URL:https://www.westwoodfitness.org/event/total-barre/2026-04-23/
LOCATION:Studio 1
CATEGORIES:Yoga / Pilates / Barre
END:VEVENT
BEGIN:VEVENT
DTSTART;TZID=America/Chicago:20260424T080000
DTEND;TZID=America/Chicago:20260424T090000
DTSTAMP:20260421T064259
CREATED:20210826T200622Z
LAST-MODIFIED:20210826T200622Z
UID:90203-1777017600-1777021200@www.westwoodfitness.org
SUMMARY:Functional Strength and Balance
DESCRIPTION:This interactive class will provide a fun\, upbeat atmosphere along with strategically planned fitness movements to help you improve your balance\, strength\, and flexibility. This class is open to members and  all ability levels. \n 
URL:https://www.westwoodfitness.org/event/functional-strength-and-balance/2026-04-24/
LOCATION:Studio 1
CATEGORIES:Cardio / Strength
END:VEVENT
BEGIN:VEVENT
DTSTART;TZID=America/Chicago:20260430T090000
DTEND;TZID=America/Chicago:20260430T094500
DTSTAMP:20260421T064259
CREATED:20210318T200029Z
LAST-MODIFIED:20210318T200029Z
UID:90307-1777539600-1777542300@www.westwoodfitness.org
SUMMARY:Total Barre
DESCRIPTION:Never dread a workout again! Total Barre’s lively and vigorous workout will have you looking forward to your next class. This workout flows through high-powered sequences that specifically target the arms\, legs\, and core resulting in a long and lean physique.(Please wear sticky socks or bare feet)
URL:https://www.westwoodfitness.org/event/total-barre/2026-04-30/
LOCATION:Studio 1
CATEGORIES:Yoga / Pilates / Barre
END:VEVENT
BEGIN:VEVENT
DTSTART;TZID=America/Chicago:20260501T080000
DTEND;TZID=America/Chicago:20260501T090000
DTSTAMP:20260421T064259
CREATED:20210826T200622Z
LAST-MODIFIED:20210826T200622Z
UID:90321-1777622400-1777626000@www.westwoodfitness.org
SUMMARY:Functional Strength and Balance
DESCRIPTION:This interactive class will provide a fun\, upbeat atmosphere along with strategically planned fitness movements to help you improve your balance\, strength\, and flexibility. This class is open to members and  all ability levels. \n 
URL:https://www.westwoodfitness.org/event/functional-strength-and-balance/2026-05-01/
LOCATION:Studio 1
CATEGORIES:Cardio / Strength
END:VEVENT
BEGIN:VEVENT
DTSTART;TZID=America/Chicago:20260507T090000
DTEND;TZID=America/Chicago:20260507T094500
DTSTAMP:20260421T064259
CREATED:20210318T200029Z
LAST-MODIFIED:20210318T200029Z
UID:90421-1778144400-1778147100@www.westwoodfitness.org
SUMMARY:Total Barre
DESCRIPTION:Never dread a workout again! Total Barre’s lively and vigorous workout will have you looking forward to your next class. This workout flows through high-powered sequences that specifically target the arms\, legs\, and core resulting in a long and lean physique.(Please wear sticky socks or bare feet)
URL:https://www.westwoodfitness.org/event/total-barre/2026-05-07/
LOCATION:Studio 1
CATEGORIES:Yoga / Pilates / Barre
END:VEVENT
BEGIN:VEVENT
DTSTART;TZID=America/Chicago:20260508T080000
DTEND;TZID=America/Chicago:20260508T090000
DTSTAMP:20260421T064259
CREATED:20210826T200622Z
LAST-MODIFIED:20210826T200622Z
UID:90435-1778227200-1778230800@www.westwoodfitness.org
SUMMARY:Functional Strength and Balance
DESCRIPTION:This interactive class will provide a fun\, upbeat atmosphere along with strategically planned fitness movements to help you improve your balance\, strength\, and flexibility. This class is open to members and  all ability levels. \n 
URL:https://www.westwoodfitness.org/event/functional-strength-and-balance/2026-05-08/
LOCATION:Studio 1
CATEGORIES:Cardio / Strength
END:VEVENT
BEGIN:VEVENT
DTSTART;TZID=America/Chicago:20260514T090000
DTEND;TZID=America/Chicago:20260514T094500
DTSTAMP:20260421T064259
CREATED:20210318T200029Z
LAST-MODIFIED:20210318T200029Z
UID:90532-1778749200-1778751900@www.westwoodfitness.org
SUMMARY:Total Barre
DESCRIPTION:Never dread a workout again! Total Barre’s lively and vigorous workout will have you looking forward to your next class. This workout flows through high-powered sequences that specifically target the arms\, legs\, and core resulting in a long and lean physique.(Please wear sticky socks or bare feet)
URL:https://www.westwoodfitness.org/event/total-barre/2026-05-14/
LOCATION:Studio 1
CATEGORIES:Yoga / Pilates / Barre
END:VEVENT
BEGIN:VEVENT
DTSTART;TZID=America/Chicago:20260515T080000
DTEND;TZID=America/Chicago:20260515T090000
DTSTAMP:20260421T064259
CREATED:20210826T200622Z
LAST-MODIFIED:20210826T200622Z
UID:90546-1778832000-1778835600@www.westwoodfitness.org
SUMMARY:Functional Strength and Balance
DESCRIPTION:This interactive class will provide a fun\, upbeat atmosphere along with strategically planned fitness movements to help you improve your balance\, strength\, and flexibility. This class is open to members and  all ability levels. \n 
URL:https://www.westwoodfitness.org/event/functional-strength-and-balance/2026-05-15/
LOCATION:Studio 1
CATEGORIES:Cardio / Strength
END:VEVENT
BEGIN:VEVENT
DTSTART;TZID=America/Chicago:20260521T090000
DTEND;TZID=America/Chicago:20260521T094500
DTSTAMP:20260421T064259
CREATED:20210318T200029Z
LAST-MODIFIED:20210318T200029Z
UID:90656-1779354000-1779356700@www.westwoodfitness.org
SUMMARY:Total Barre
DESCRIPTION:Never dread a workout again! Total Barre’s lively and vigorous workout will have you looking forward to your next class. This workout flows through high-powered sequences that specifically target the arms\, legs\, and core resulting in a long and lean physique.(Please wear sticky socks or bare feet)
URL:https://www.westwoodfitness.org/event/total-barre/2026-05-21/
LOCATION:Studio 1
CATEGORIES:Yoga / Pilates / Barre
END:VEVENT
BEGIN:VEVENT
DTSTART;TZID=America/Chicago:20260522T080000
DTEND;TZID=America/Chicago:20260522T090000
DTSTAMP:20260421T064259
CREATED:20210826T200622Z
LAST-MODIFIED:20210826T200622Z
UID:90670-1779436800-1779440400@www.westwoodfitness.org
SUMMARY:Functional Strength and Balance
DESCRIPTION:This interactive class will provide a fun\, upbeat atmosphere along with strategically planned fitness movements to help you improve your balance\, strength\, and flexibility. This class is open to members and  all ability levels. \n 
URL:https://www.westwoodfitness.org/event/functional-strength-and-balance/2026-05-22/
LOCATION:Studio 1
CATEGORIES:Cardio / Strength
END:VEVENT
BEGIN:VEVENT
DTSTART;TZID=America/Chicago:20260528T090000
DTEND;TZID=America/Chicago:20260528T094500
DTSTAMP:20260421T064259
CREATED:20210318T200029Z
LAST-MODIFIED:20210318T200029Z
UID:90778-1779958800-1779961500@www.westwoodfitness.org
SUMMARY:Total Barre
DESCRIPTION:Never dread a workout again! Total Barre’s lively and vigorous workout will have you looking forward to your next class. This workout flows through high-powered sequences that specifically target the arms\, legs\, and core resulting in a long and lean physique.(Please wear sticky socks or bare feet)
URL:https://www.westwoodfitness.org/event/total-barre/2026-05-28/
LOCATION:Studio 1
CATEGORIES:Yoga / Pilates / Barre
END:VEVENT
BEGIN:VEVENT
DTSTART;TZID=America/Chicago:20260529T080000
DTEND;TZID=America/Chicago:20260529T090000
DTSTAMP:20260421T064300
CREATED:20210826T200622Z
LAST-MODIFIED:20210826T200622Z
UID:90787-1780041600-1780045200@www.westwoodfitness.org
SUMMARY:Functional Strength and Balance
DESCRIPTION:This interactive class will provide a fun\, upbeat atmosphere along with strategically planned fitness movements to help you improve your balance\, strength\, and flexibility. This class is open to members and  all ability levels. \n 
URL:https://www.westwoodfitness.org/event/functional-strength-and-balance/2026-05-29/
LOCATION:Studio 1
CATEGORIES:Cardio / Strength
END:VEVENT
BEGIN:VEVENT
DTSTART;TZID=America/Chicago:20260604T090000
DTEND;TZID=America/Chicago:20260604T094500
DTSTAMP:20260421T064300
CREATED:20210318T200029Z
LAST-MODIFIED:20210318T200029Z
UID:90899-1780563600-1780566300@www.westwoodfitness.org
SUMMARY:Total Barre
DESCRIPTION:Never dread a workout again! Total Barre’s lively and vigorous workout will have you looking forward to your next class. This workout flows through high-powered sequences that specifically target the arms\, legs\, and core resulting in a long and lean physique.(Please wear sticky socks or bare feet)
URL:https://www.westwoodfitness.org/event/total-barre/2026-06-04/
LOCATION:Studio 1
CATEGORIES:Yoga / Pilates / Barre
END:VEVENT
BEGIN:VEVENT
DTSTART;TZID=America/Chicago:20260605T080000
DTEND;TZID=America/Chicago:20260605T090000
DTSTAMP:20260421T064300
CREATED:20210826T200622Z
LAST-MODIFIED:20210826T200622Z
UID:90919-1780646400-1780650000@www.westwoodfitness.org
SUMMARY:Functional Strength and Balance
DESCRIPTION:This interactive class will provide a fun\, upbeat atmosphere along with strategically planned fitness movements to help you improve your balance\, strength\, and flexibility. This class is open to members and  all ability levels. \n 
URL:https://www.westwoodfitness.org/event/functional-strength-and-balance/2026-06-05/
LOCATION:Studio 1
CATEGORIES:Cardio / Strength
END:VEVENT
BEGIN:VEVENT
DTSTART;TZID=America/Chicago:20260611T090000
DTEND;TZID=America/Chicago:20260611T094500
DTSTAMP:20260421T064300
CREATED:20210318T200029Z
LAST-MODIFIED:20210318T200029Z
UID:91025-1781168400-1781171100@www.westwoodfitness.org
SUMMARY:Total Barre
DESCRIPTION:Never dread a workout again! Total Barre’s lively and vigorous workout will have you looking forward to your next class. This workout flows through high-powered sequences that specifically target the arms\, legs\, and core resulting in a long and lean physique.(Please wear sticky socks or bare feet)
URL:https://www.westwoodfitness.org/event/total-barre/2026-06-11/
LOCATION:Studio 1
CATEGORIES:Yoga / Pilates / Barre
END:VEVENT
BEGIN:VEVENT
DTSTART;TZID=America/Chicago:20260612T080000
DTEND;TZID=America/Chicago:20260612T090000
DTSTAMP:20260421T064300
CREATED:20210826T200622Z
LAST-MODIFIED:20210826T200622Z
UID:91039-1781251200-1781254800@www.westwoodfitness.org
SUMMARY:Functional Strength and Balance
DESCRIPTION:This interactive class will provide a fun\, upbeat atmosphere along with strategically planned fitness movements to help you improve your balance\, strength\, and flexibility. This class is open to members and  all ability levels. \n 
URL:https://www.westwoodfitness.org/event/functional-strength-and-balance/2026-06-12/
LOCATION:Studio 1
CATEGORIES:Cardio / Strength
END:VEVENT
BEGIN:VEVENT
DTSTART;TZID=America/Chicago:20260618T090000
DTEND;TZID=America/Chicago:20260618T094500
DTSTAMP:20260421T064300
CREATED:20210318T200029Z
LAST-MODIFIED:20210318T200029Z
UID:91154-1781773200-1781775900@www.westwoodfitness.org
SUMMARY:Total Barre
DESCRIPTION:Never dread a workout again! Total Barre’s lively and vigorous workout will have you looking forward to your next class. This workout flows through high-powered sequences that specifically target the arms\, legs\, and core resulting in a long and lean physique.(Please wear sticky socks or bare feet)
URL:https://www.westwoodfitness.org/event/total-barre/2026-06-18/
LOCATION:Studio 1
CATEGORIES:Yoga / Pilates / Barre
END:VEVENT
BEGIN:VEVENT
DTSTART;TZID=America/Chicago:20260619T080000
DTEND;TZID=America/Chicago:20260619T090000
DTSTAMP:20260421T064300
CREATED:20210826T200622Z
LAST-MODIFIED:20210826T200622Z
UID:91171-1781856000-1781859600@www.westwoodfitness.org
SUMMARY:Functional Strength and Balance
DESCRIPTION:This interactive class will provide a fun\, upbeat atmosphere along with strategically planned fitness movements to help you improve your balance\, strength\, and flexibility. This class is open to members and  all ability levels. \n 
URL:https://www.westwoodfitness.org/event/functional-strength-and-balance/2026-06-19/
LOCATION:Studio 1
CATEGORIES:Cardio / Strength
END:VEVENT
BEGIN:VEVENT
DTSTART;TZID=America/Chicago:20260625T090000
DTEND;TZID=America/Chicago:20260625T094500
DTSTAMP:20260421T064300
CREATED:20210318T200029Z
LAST-MODIFIED:20210318T200029Z
UID:91283-1782378000-1782380700@www.westwoodfitness.org
SUMMARY:Total Barre
DESCRIPTION:Never dread a workout again! Total Barre’s lively and vigorous workout will have you looking forward to your next class. This workout flows through high-powered sequences that specifically target the arms\, legs\, and core resulting in a long and lean physique.(Please wear sticky socks or bare feet)
URL:https://www.westwoodfitness.org/event/total-barre/2026-06-25/
LOCATION:Studio 1
CATEGORIES:Yoga / Pilates / Barre
END:VEVENT
BEGIN:VEVENT
DTSTART;TZID=America/Chicago:20260626T080000
DTEND;TZID=America/Chicago:20260626T090000
DTSTAMP:20260421T064300
CREATED:20210826T200622Z
LAST-MODIFIED:20210826T200622Z
UID:91297-1782460800-1782464400@www.westwoodfitness.org
SUMMARY:Functional Strength and Balance
DESCRIPTION:This interactive class will provide a fun\, upbeat atmosphere along with strategically planned fitness movements to help you improve your balance\, strength\, and flexibility. This class is open to members and  all ability levels. \n 
URL:https://www.westwoodfitness.org/event/functional-strength-and-balance/2026-06-26/
LOCATION:Studio 1
CATEGORIES:Cardio / Strength
END:VEVENT
BEGIN:VEVENT
DTSTART;TZID=America/Chicago:20260702T090000
DTEND;TZID=America/Chicago:20260702T094500
DTSTAMP:20260421T064300
CREATED:20210318T200029Z
LAST-MODIFIED:20210318T200029Z
UID:91407-1782982800-1782985500@www.westwoodfitness.org
SUMMARY:Total Barre
DESCRIPTION:Never dread a workout again! Total Barre’s lively and vigorous workout will have you looking forward to your next class. This workout flows through high-powered sequences that specifically target the arms\, legs\, and core resulting in a long and lean physique.(Please wear sticky socks or bare feet)
URL:https://www.westwoodfitness.org/event/total-barre/2026-07-02/
LOCATION:Studio 1
CATEGORIES:Yoga / Pilates / Barre
END:VEVENT
BEGIN:VEVENT
DTSTART;TZID=America/Chicago:20260703T080000
DTEND;TZID=America/Chicago:20260703T090000
DTSTAMP:20260421T064300
CREATED:20210826T200622Z
LAST-MODIFIED:20210826T200622Z
UID:91421-1783065600-1783069200@www.westwoodfitness.org
SUMMARY:Functional Strength and Balance
DESCRIPTION:This interactive class will provide a fun\, upbeat atmosphere along with strategically planned fitness movements to help you improve your balance\, strength\, and flexibility. This class is open to members and  all ability levels. \n 
URL:https://www.westwoodfitness.org/event/functional-strength-and-balance/2026-07-03/
LOCATION:Studio 1
CATEGORIES:Cardio / Strength
END:VEVENT
BEGIN:VEVENT
DTSTART;TZID=America/Chicago:20260709T090000
DTEND;TZID=America/Chicago:20260709T094500
DTSTAMP:20260421T064300
CREATED:20210318T200029Z
LAST-MODIFIED:20210318T200029Z
UID:91521-1783587600-1783590300@www.westwoodfitness.org
SUMMARY:Total Barre
DESCRIPTION:Never dread a workout again! Total Barre’s lively and vigorous workout will have you looking forward to your next class. This workout flows through high-powered sequences that specifically target the arms\, legs\, and core resulting in a long and lean physique.(Please wear sticky socks or bare feet)
URL:https://www.westwoodfitness.org/event/total-barre/2026-07-09/
LOCATION:Studio 1
CATEGORIES:Yoga / Pilates / Barre
END:VEVENT
BEGIN:VEVENT
DTSTART;TZID=America/Chicago:20260710T080000
DTEND;TZID=America/Chicago:20260710T090000
DTSTAMP:20260421T064300
CREATED:20210826T200622Z
LAST-MODIFIED:20210826T200622Z
UID:91535-1783670400-1783674000@www.westwoodfitness.org
SUMMARY:Functional Strength and Balance
DESCRIPTION:This interactive class will provide a fun\, upbeat atmosphere along with strategically planned fitness movements to help you improve your balance\, strength\, and flexibility. This class is open to members and  all ability levels. \n 
URL:https://www.westwoodfitness.org/event/functional-strength-and-balance/2026-07-10/
LOCATION:Studio 1
CATEGORIES:Cardio / Strength
END:VEVENT
BEGIN:VEVENT
DTSTART;TZID=America/Chicago:20260716T090000
DTEND;TZID=America/Chicago:20260716T094500
DTSTAMP:20260421T064300
CREATED:20210318T200029Z
LAST-MODIFIED:20210318T200029Z
UID:91632-1784192400-1784195100@www.westwoodfitness.org
SUMMARY:Total Barre
DESCRIPTION:Never dread a workout again! Total Barre’s lively and vigorous workout will have you looking forward to your next class. This workout flows through high-powered sequences that specifically target the arms\, legs\, and core resulting in a long and lean physique.(Please wear sticky socks or bare feet)
URL:https://www.westwoodfitness.org/event/total-barre/2026-07-16/
LOCATION:Studio 1
CATEGORIES:Yoga / Pilates / Barre
END:VEVENT
BEGIN:VEVENT
DTSTART;TZID=America/Chicago:20260717T080000
DTEND;TZID=America/Chicago:20260717T090000
DTSTAMP:20260421T064300
CREATED:20210826T200622Z
LAST-MODIFIED:20210826T200622Z
UID:91646-1784275200-1784278800@www.westwoodfitness.org
SUMMARY:Functional Strength and Balance
DESCRIPTION:This interactive class will provide a fun\, upbeat atmosphere along with strategically planned fitness movements to help you improve your balance\, strength\, and flexibility. This class is open to members and  all ability levels. \n 
URL:https://www.westwoodfitness.org/event/functional-strength-and-balance/2026-07-17/
LOCATION:Studio 1
CATEGORIES:Cardio / Strength
END:VEVENT
END:VCALENDAR